BEGIN:VCALENDAR
VERSION:2.0
PRODID:https://github.com/derhansen/sf_event_mgt
METHOD:PUBLISH
BEGIN:VEVENT
UID:11-36@diversitaet.wuehoch3.de
CLASS: PUBLIC
SUMMARY:Reflexionstreffen
DESCRIPTION:
LOCATION:Klara-Oppenheimer-Weg 38, 97074 Würzburg
DTSTAMP:20240418T093739Z
DTSTART:20240724T080000Z
DTEND:20240724T100000Z
END:VEVENT
END:VCALENDAR
