BEGIN:VCALENDAR
VERSION:2.0
PRODID:https://github.com/derhansen/sf_event_mgt
METHOD:PUBLISH
BEGIN:VEVENT
UID:104-36@diversitaet.wuehoch3.de
CLASS: PUBLIC
SUMMARY:Lecture: From Silence to Empowerment: The Academic Impact of the Me
 Too University Movement
DESCRIPTION:The session titled "From Silence to Empowerment: The Academic I
 mpact of the MeToo University Movement" will be divided into two parts. The
  first part will feature a conference by Mar Joanpere, PhD in Sociology fro
 m the University of Barcelona and the first victim to win a sexual harassme
 nt case in Spanish universities. Her talk will focus on the origins and cha
 llenges of the university MeToo movement, highlighting how gender violence 
 isolates victims, and the backlash faced by those who support them.\n\n\n\n
 In the second part, participants will engage in a workshop to discuss a sci
 entific paper on the topic, which will be shared with attendees beforehand.
  Through egalitarian dialogue, we will delve into the global impact of the 
 movement and its ongoing struggle for change.\n\n\n\nModeration: Sophie Ren
 ninger und Andrea Bähr, JMU
LOCATION:Zoom-Treffen
DTSTAMP:20241015T185124Z
DTSTART:20241125T090000Z
DTEND:20241125T100000Z
END:VEVENT
END:VCALENDAR
