BEGIN:VCALENDAR
VERSION:2.0
PRODID:https://github.com/derhansen/sf_event_mgt
METHOD:PUBLISH
BEGIN:VEVENT
UID:102-36@diversitaet.wuehoch3.de
CLASS: PUBLIC
SUMMARY:Diversitätssensible Lehre
DESCRIPTION:In universitären Vorlesungssälen und Seminarräumen treffen Lehr
 ende und Studierende mit jeweils individuellen Perspektiven und Erfahrungen
  aufeinander. Um möglichst allen Studierenden eine erfolgreiche Beteiligung
  am Lernprozess zu ermöglichen, wird in diesem Vortrag daher der Frage nach
 gegangen, wie die Vielfalt der Studierenden im Lehralltag Berücksichtigung 
 finden kann. In diesem Zusammenhang wird Melanie Hartmann in eine diversitä
 tssensible Perspektive auf die Lehre einführen und deren Bedeutung für den 
 Hochschulkontext beleuchten. Außerdem wird sie einen kurzen Einblick in ihr
  Forschungsprojekt zu diversitätssensibler Lehre unter Nutzung von Social E
 xtended Reality-Medien gewähren.
LOCATION:Zoom-Treffen
DTSTAMP:20241015T164738Z
DTSTART:20241024T150000Z
DTEND:20241024T163000Z
END:VEVENT
END:VCALENDAR
